BEGIN:VCALENDAR
VERSION:2.0
PRODID:-//JURA DIREKT//EN
CALSCALE:GREGORIAN
X-MS-OLK-FORCEINSPECTOROPEN:TRUE


BEGIN:VEVENT
UID:194331b0f269c70dedde89090224fedb@juradirekt.com
SUMMARY:Für Privatpersonen: Vollmachten und 24/7-Notfallhilfe
DESCRIPTION:https://www.juradirekt.com/veranstaltungskalender/241694
LOCATION:Online
DTSTART:20260415T193000
DTSTAMP:20260424T181323
DTEND:20260415T201500
BEGIN:VALARM
TRIGGER:-PT15M
DESCRIPTION:Termin-Erinnerung
ACTION:DISPLAY
END:VALARM
END:VEVENT


END:VCALENDAR
