BEGIN:VCALENDAR
VERSION:2.0
PRODID:-//JURA DIREKT//EN
CALSCALE:GREGORIAN
X-MS-OLK-FORCEINSPECTOROPEN:TRUE


BEGIN:VEVENT
UID:b1bf752360eb1f225c6b2fa319cdccc9@juradirekt.com
SUMMARY:Für Privatpersonen und Selbständige: Testament und Nachlass regeln - Familie entlasten - Erbschaft optimieren
DESCRIPTION:https://www.juradirekt.com/veranstaltungskalender/241512
LOCATION:Online
DTSTART:20251110T190000
DTSTAMP:20260422T124106
DTEND:20251110T194500
BEGIN:VALARM
TRIGGER:-PT15M
DESCRIPTION:Termin-Erinnerung
ACTION:DISPLAY
END:VALARM
END:VEVENT


END:VCALENDAR
