BEGIN:VCALENDAR
VERSION:2.0
PRODID:-//JURA DIREKT//EN
CALSCALE:GREGORIAN
X-MS-OLK-FORCEINSPECTOROPEN:TRUE


BEGIN:VEVENT
UID:8242945ab2667034d31654a66783f202@juradirekt.com
SUMMARY:Für Privatpersonen: Vollmachten und 24/7 Notfall-Hilfe 
DESCRIPTION:https://www.juradirekt.com/veranstaltungskalender/241509
LOCATION:Online
DTSTART:20251006T190000
DTSTAMP:20260420T123514
DTEND:20251006T194500
BEGIN:VALARM
TRIGGER:-PT15M
DESCRIPTION:Termin-Erinnerung
ACTION:DISPLAY
END:VALARM
END:VEVENT


END:VCALENDAR
