BEGIN:VCALENDAR
VERSION:2.0
PRODID:-//JURA DIREKT//EN
CALSCALE:GREGORIAN
X-MS-OLK-FORCEINSPECTOROPEN:TRUE


BEGIN:VEVENT
UID:1a75ddd8d0a05f93e2e10efca3cb38a9@juradirekt.com
SUMMARY:JURA DIREKT News-Webinar 2023
DESCRIPTION:https://www.juradirekt.com/veranstaltungskalender/238714
LOCATION:Online
DTSTART:20230118T120000
DTSTAMP:20260422T123226
DTEND:20230118T130000
BEGIN:VALARM
TRIGGER:-PT15M
DESCRIPTION:Termin-Erinnerung
ACTION:DISPLAY
END:VALARM
END:VEVENT


END:VCALENDAR
