BEGIN:VCALENDAR
VERSION:2.0
PRODID:-//JURA DIREKT//EN
CALSCALE:GREGORIAN
X-MS-OLK-FORCEINSPECTOROPEN:TRUE


BEGIN:VEVENT
UID:82b952d96de13931308e6a9bd2b9abbd@juradirekt.com
SUMMARY:Für Privatpersonen: Vollmachten, Testament und 24 Std. Notfall-Hilfe
DESCRIPTION:https://www.juradirekt.com/veranstaltungskalender/238372
LOCATION:Online
DTSTART:20230513T110000
DTSTAMP:20260422T025820
DTEND:20230513T114500
BEGIN:VALARM
TRIGGER:-PT15M
DESCRIPTION:Termin-Erinnerung
ACTION:DISPLAY
END:VALARM
END:VEVENT


END:VCALENDAR
